Package: RLMM Version: 1.70.0 Command: /home/biocbuild/R/R/bin/R CMD build --keep-empty-dirs --no-resave-data RLMM StartedAt: 2025-10-14 04:05:49 -0000 (Tue, 14 Oct 2025) EndedAt: 2025-10-14 04:05:55 -0000 (Tue, 14 Oct 2025) EllapsedTime: 6.0 seconds RetCode: 0 Status: OK PackageFile: RLMM_1.70.0.tar.gz PackageFileSize: 409.4 KiB