Package: RJMCMCNucleosomes Version: 1.34.0 Command: /home/biocbuild/bbs-3.22-bioc/R/bin/R CMD INSTALL RJMCMCNucleosomes StartedAt: 2025-10-31 15:37:38 -0400 (Fri, 31 Oct 2025) EndedAt: 2025-10-31 15:38:26 -0400 (Fri, 31 Oct 2025) EllapsedTime: 48.2 seconds RetCode: 0 Status: OK