Package: RJMCMCNucleosomes Version: 1.34.0 Command: /home/biocbuild/bbs-3.22-bioc/R/bin/R CMD build --keep-empty-dirs --no-resave-data --md5 RJMCMCNucleosomes StartedAt: 2025-10-31 19:49:37 -0400 (Fri, 31 Oct 2025) EndedAt: 2025-10-31 19:50:48 -0400 (Fri, 31 Oct 2025) EllapsedTime: 71.0 seconds RetCode: 0 Status: OK PackageFile: RJMCMCNucleosomes_1.34.0.tar.gz PackageFileSize: 571.2 KiB