Package: RIVER Version: 1.34.0 Command: /home/biocbuild/bbs-3.22-bioc/R/bin/R CMD check --install=check:RIVER.install-out.txt --library=/home/biocbuild/bbs-3.22-bioc/R/site-library --timings RIVER_1.34.0.tar.gz StartedAt: 2025-11-21 03:56:15 -0500 (Fri, 21 Nov 2025) EndedAt: 2025-11-21 03:57:50 -0500 (Fri, 21 Nov 2025) EllapsedTime: 95.1 seconds RetCode: 0 Status: OK CheckDir: RIVER.Rcheck Warnings: 0