Package: RIVER Version: 1.34.0 Command: /Library/Frameworks/R.framework/Resources/bin/R CMD INSTALL RIVER StartedAt: 2025-11-03 15:19:38 -0500 (Mon, 03 Nov 2025) EndedAt: 2025-11-03 15:19:54 -0500 (Mon, 03 Nov 2025) EllapsedTime: 16.5 seconds RetCode: 0 Status: OK