Package: RIVER Version: 1.32.0 Command: /home/biocbuild/R/R/bin/R CMD INSTALL RIVER StartedAt: 2025-10-13 20:24:45 -0000 (Mon, 13 Oct 2025) EndedAt: 2025-10-13 20:24:59 -0000 (Mon, 13 Oct 2025) EllapsedTime: 14.3 seconds RetCode: 0 Status: OK