Package: RIVER Version: 1.32.0 Command: /home/biocbuild/R/R/bin/R CMD build --keep-empty-dirs --no-resave-data RIVER StartedAt: 2025-10-14 04:05:14 -0000 (Tue, 14 Oct 2025) EndedAt: 2025-10-14 04:05:49 -0000 (Tue, 14 Oct 2025) EllapsedTime: 35.0 seconds RetCode: 0 Status: OK PackageFile: RIVER_1.32.0.tar.gz PackageFileSize: 1.47 MiB