Package: RIVER Version: 1.32.0 Command: /Library/Frameworks/R.framework/Resources/bin/R CMD build --keep-empty-dirs --no-resave-data RIVER StartedAt: 2025-04-21 17:27:17 -0400 (Mon, 21 Apr 2025) EndedAt: 2025-04-21 17:27:27 -0400 (Mon, 21 Apr 2025) EllapsedTime: 10.1 seconds RetCode: 0 Status: OK PackageFile: RIVER_1.32.0.tar.gz PackageFileSize: 1.471 MiB