Package: RITAN Version: 1.34.0 Command: /home/biocbuild/bbs-3.22-bioc/R/bin/R CMD build --keep-empty-dirs --no-resave-data --md5 RITAN StartedAt: 2025-11-11 19:46:54 -0500 (Tue, 11 Nov 2025) EndedAt: 2025-11-11 19:48:39 -0500 (Tue, 11 Nov 2025) EllapsedTime: 105.1 seconds RetCode: 0 Status: OK PackageFile: RITAN_1.34.0.tar.gz PackageFileSize: 807.5 KiB