Package: RITAN Version: 1.34.0 Command: /Library/Frameworks/R.framework/Resources/bin/R CMD INSTALL RITAN StartedAt: 2025-11-10 15:21:38 -0500 (Mon, 10 Nov 2025) EndedAt: 2025-11-10 15:21:55 -0500 (Mon, 10 Nov 2025) EllapsedTime: 17.7 seconds RetCode: 0 Status: OK