Package: RITAN Version: 1.34.0 Command: rm -rf RITAN.buildbin-libdir && mkdir RITAN.buildbin-libdir && /Users/biocbuild/BBS/utils/build-universal.sh RITAN_1.34.0.tar.gz /Library/Frameworks/R.framework/Resources/bin/R RITAN.buildbin-libdir StartedAt: 2025-11-10 23:33:47 -0500 (Mon, 10 Nov 2025) EndedAt: 2025-11-10 23:34:06 -0500 (Mon, 10 Nov 2025) EllapsedTime: 19.3 seconds RetCode: 0 Status: OK PackageFile: RITAN_1.34.0.tgz PackageFileSize: 973.2 KiB