Package: RGraph2js Version: 1.36.0 Command: /home/biocbuild/bbs-3.21-bioc/R/bin/R CMD check --install=check:RGraph2js.install-out.txt --library=/home/biocbuild/bbs-3.21-bioc/R/site-library --timings RGraph2js_1.36.0.tar.gz StartedAt: 2025-10-13 02:54:52 -0400 (Mon, 13 Oct 2025) EndedAt: 2025-10-13 02:55:23 -0400 (Mon, 13 Oct 2025) EllapsedTime: 31.1 seconds RetCode: 0 Status: OK CheckDir: RGraph2js.Rcheck Warnings: 0