Package: RGraph2js Version: 1.38.0 Command: /Library/Frameworks/R.framework/Resources/bin/R CMD check --install=check:RGraph2js.install-out.txt --library=/Library/Frameworks/R.framework/Resources/library --no-vignettes --timings RGraph2js_1.38.0.tar.gz StartedAt: 2025-11-21 10:28:19 -0500 (Fri, 21 Nov 2025) EndedAt: 2025-11-21 10:29:16 -0500 (Fri, 21 Nov 2025) EllapsedTime: 57.2 seconds RetCode: 0 Status: OK CheckDir: RGraph2js.Rcheck Warnings: 0