Package: RGraph2js Version: 1.36.0 Command: /Library/Frameworks/R.framework/Resources/bin/R CMD build --keep-empty-dirs --no-resave-data RGraph2js StartedAt: 2025-09-25 21:59:51 -0400 (Thu, 25 Sep 2025) EndedAt: 2025-09-25 22:00:15 -0400 (Thu, 25 Sep 2025) EllapsedTime: 24.7 seconds RetCode: 0 Status: OK PackageFile: RGraph2js_1.36.0.tar.gz PackageFileSize: 2.343 MiB