Package: RGraph2js Version: 1.38.0 Command: /Library/Frameworks/R.framework/Resources/bin/R CMD check --install=check:RGraph2js.install-out.txt --library=/Library/Frameworks/R.framework/Resources/library --no-vignettes --timings RGraph2js_1.38.0.tar.gz StartedAt: 2025-10-31 23:41:30 -0400 (Fri, 31 Oct 2025) EndedAt: 2025-10-31 23:42:06 -0400 (Fri, 31 Oct 2025) EllapsedTime: 36.6 seconds RetCode: 0 Status: OK CheckDir: RGraph2js.Rcheck Warnings: 0