Package: RGraph2js Version: 1.36.0 Command: rm -rf RGraph2js.buildbin-libdir && mkdir RGraph2js.buildbin-libdir && /Users/biocbuild/BBS/utils/build-universal.sh RGraph2js_1.36.0.tar.gz /Library/Frameworks/R.framework/Resources/bin/R RGraph2js.buildbin-libdir StartedAt: 2025-04-21 22:48:42 -0400 (Mon, 21 Apr 2025) EndedAt: 2025-04-21 22:48:44 -0400 (Mon, 21 Apr 2025) EllapsedTime: 2.1 seconds RetCode: 0 Status: OK PackageFile: RGraph2js_1.36.0.tgz PackageFileSize: 1.497 MiB