Package: RGraph2js Version: 1.36.0 Command: /Library/Frameworks/R.framework/Resources/bin/R CMD check --install=check:RGraph2js.install-out.txt --library=/Library/Frameworks/R.framework/Resources/library --no-vignettes --timings RGraph2js_1.36.0.tar.gz StartedAt: 2025-10-11 11:01:18 -0400 (Sat, 11 Oct 2025) EndedAt: 2025-10-11 11:01:59 -0400 (Sat, 11 Oct 2025) EllapsedTime: 40.8 seconds RetCode: 0 Status: OK CheckDir: RGraph2js.Rcheck Warnings: 0