Package: RGSEA Version: 1.44.0 Command: /home/biocbuild/bbs-3.22-bioc/R/bin/R CMD INSTALL RGSEA StartedAt: 2025-11-11 15:16:06 -0500 (Tue, 11 Nov 2025) EndedAt: 2025-11-11 15:16:08 -0500 (Tue, 11 Nov 2025) EllapsedTime: 2.9 seconds RetCode: 0 Status: OK