Package: RGSEA Version: 1.44.0 Command: /home/biocbuild/bbs-3.22-bioc/R/bin/R CMD check --install=check:RGSEA.install-out.txt --library=/home/biocbuild/bbs-3.22-bioc/R/site-library --timings RGSEA_1.44.0.tar.gz StartedAt: 2025-11-14 03:22:58 -0500 (Fri, 14 Nov 2025) EndedAt: 2025-11-14 03:24:01 -0500 (Fri, 14 Nov 2025) EllapsedTime: 63.1 seconds RetCode: 0 Status: OK CheckDir: RGSEA.Rcheck Warnings: 0