Package: RGSEA Version: 1.44.0 Command: /home/biocbuild/bbs-3.22-bioc/R/bin/R CMD build --keep-empty-dirs --no-resave-data --md5 RGSEA StartedAt: 2025-11-11 19:44:04 -0500 (Tue, 11 Nov 2025) EndedAt: 2025-11-11 19:44:39 -0500 (Tue, 11 Nov 2025) EllapsedTime: 35.0 seconds RetCode: 0 Status: OK PackageFile: RGSEA_1.44.0.tar.gz PackageFileSize: 1.724 MiB