Package: RGSEA Version: 1.42.0 Command: /home/biocbuild/bbs-3.21-bioc/R/bin/R CMD INSTALL RGSEA StartedAt: 2025-10-15 15:11:15 -0400 (Wed, 15 Oct 2025) EndedAt: 2025-10-15 15:11:17 -0400 (Wed, 15 Oct 2025) EllapsedTime: 2.3 seconds RetCode: 0 Status: OK