Package: RGSEA Version: 1.44.0 Command: /Library/Frameworks/R.framework/Resources/bin/R CMD INSTALL RGSEA StartedAt: 2025-10-31 15:22:57 -0400 (Fri, 31 Oct 2025) EndedAt: 2025-10-31 15:23:08 -0400 (Fri, 31 Oct 2025) EllapsedTime: 10.5 seconds RetCode: 0 Status: OK