Package: RGSEA Version: 1.44.0 Command: rm -rf RGSEA.buildbin-libdir && mkdir RGSEA.buildbin-libdir && /Users/biocbuild/BBS/utils/build-universal.sh RGSEA_1.44.0.tar.gz /Library/Frameworks/R.framework/Resources/bin/R RGSEA.buildbin-libdir StartedAt: 2025-11-01 01:52:54 -0400 (Sat, 01 Nov 2025) EndedAt: 2025-11-01 01:53:00 -0400 (Sat, 01 Nov 2025) EllapsedTime: 5.7 seconds RetCode: 0 Status: OK PackageFile: RGSEA_1.44.0.tgz PackageFileSize: 1.749 MiB