Package: RGSEA Version: 1.42.0 Command: /home/biocbuild/R/R/bin/R CMD INSTALL RGSEA StartedAt: 2025-10-06 20:23:01 -0000 (Mon, 06 Oct 2025) EndedAt: 2025-10-06 20:23:04 -0000 (Mon, 06 Oct 2025) EllapsedTime: 3.4 seconds RetCode: 0 Status: OK