Package: RGSEA Version: 1.42.0 Command: /home/biocbuild/R/R/bin/R CMD build --keep-empty-dirs --no-resave-data RGSEA StartedAt: 2025-10-07 03:59:33 -0000 (Tue, 07 Oct 2025) EndedAt: 2025-10-07 04:01:01 -0000 (Tue, 07 Oct 2025) EllapsedTime: 88.0 seconds RetCode: 0 Status: OK PackageFile: RGSEA_1.42.0.tar.gz PackageFileSize: 1.719 MiB