Package: RGSEA Version: 1.44.0 Command: /Library/Frameworks/R.framework/Resources/bin/R CMD INSTALL RGSEA StartedAt: 2025-11-10 15:06:37 -0500 (Mon, 10 Nov 2025) EndedAt: 2025-11-10 15:06:38 -0500 (Mon, 10 Nov 2025) EllapsedTime: 1.3 seconds RetCode: 0 Status: OK