Package: RGSEA Version: 1.42.0 Command: /Library/Frameworks/R.framework/Resources/bin/R CMD build --keep-empty-dirs --no-resave-data RGSEA StartedAt: 2025-10-14 07:43:44 -0400 (Tue, 14 Oct 2025) EndedAt: 2025-10-14 07:44:35 -0400 (Tue, 14 Oct 2025) EllapsedTime: 50.3 seconds RetCode: 0 Status: OK PackageFile: RGSEA_1.42.0.tar.gz PackageFileSize: 1.723 MiB