Package: RGSEA Version: 1.42.0 Command: rm -rf RGSEA.buildbin-libdir && mkdir RGSEA.buildbin-libdir && /Users/biocbuild/BBS/utils/build-universal.sh RGSEA_1.42.0.tar.gz /Library/Frameworks/R.framework/Resources/bin/R RGSEA.buildbin-libdir StartedAt: 2025-10-15 20:05:21 -0400 (Wed, 15 Oct 2025) EndedAt: 2025-10-15 20:05:25 -0400 (Wed, 15 Oct 2025) EllapsedTime: 4.6 seconds RetCode: 0 Status: OK PackageFile: RGSEA_1.42.0.tgz PackageFileSize: 1.749 MiB