Package: RGMQL Version: 1.28.0 Command: /home/biocbuild/R/R/bin/R CMD INSTALL RGMQL StartedAt: 2025-10-09 20:41:26 -0000 (Thu, 09 Oct 2025) EndedAt: 2025-10-09 20:42:16 -0000 (Thu, 09 Oct 2025) EllapsedTime: 49.9 seconds RetCode: 0 Status: OK