Package: RGMQL Version: 1.28.0 Command: /home/biocbuild/R/R/bin/R CMD build --keep-empty-dirs --no-resave-data RGMQL StartedAt: 2025-10-10 03:55:45 -0000 (Fri, 10 Oct 2025) EndedAt: 2025-10-10 03:56:59 -0000 (Fri, 10 Oct 2025) EllapsedTime: 74.0 seconds RetCode: 1 Status: ERROR PackageFile: None PackageFileSize: NA