Package: RFLOMICS Version: 1.2.0 Command: /home/biocbuild/R/R/bin/R CMD INSTALL RFLOMICS StartedAt: 2025-11-13 21:59:46 -0000 (Thu, 13 Nov 2025) EndedAt: 2025-11-13 22:00:56 -0000 (Thu, 13 Nov 2025) EllapsedTime: 70.1 seconds RetCode: 0 Status: OK