Package: RFLOMICS Version: 1.2.0 Command: /home/biocbuild/R/R/bin/R CMD build --keep-empty-dirs --no-resave-data RFLOMICS StartedAt: 2025-11-14 04:35:16 -0000 (Fri, 14 Nov 2025) EndedAt: 2025-11-14 05:15:17 -0000 (Fri, 14 Nov 2025) EllapsedTime: 2400.3 seconds RetCode: None Status: TIMEOUT PackageFile: None PackageFileSize: NA