Package: RFLOMICS Version: 1.0.0 Command: /Library/Frameworks/R.framework/Resources/bin/R CMD build --keep-empty-dirs --no-resave-data RFLOMICS StartedAt: 2025-04-21 17:25:40 -0400 (Mon, 21 Apr 2025) EndedAt: 2025-04-21 17:26:38 -0400 (Mon, 21 Apr 2025) EllapsedTime: 58.6 seconds RetCode: 0 Status: OK PackageFile: RFLOMICS_1.0.0.tar.gz PackageFileSize: 5.005 MiB