Package: RFLOMICS Version: 1.0.0 Command: rm -rf RFLOMICS.buildbin-libdir && mkdir RFLOMICS.buildbin-libdir && /Users/biocbuild/BBS/utils/build-universal.sh RFLOMICS_1.0.0.tar.gz /Library/Frameworks/R.framework/Resources/bin/R RFLOMICS.buildbin-libdir StartedAt: 2025-04-21 22:48:38 -0400 (Mon, 21 Apr 2025) EndedAt: 2025-04-21 22:49:01 -0400 (Mon, 21 Apr 2025) EllapsedTime: 22.4 seconds RetCode: 0 Status: OK PackageFile: RFLOMICS_1.0.0.tgz PackageFileSize: 4.848 MiB