Package: RFLOMICS Version: 1.0.1 Command: /Library/Frameworks/R.framework/Resources/bin/R CMD INSTALL RFLOMICS StartedAt: 2025-10-06 17:57:02 -0400 (Mon, 06 Oct 2025) EndedAt: 2025-10-06 17:58:07 -0400 (Mon, 06 Oct 2025) EllapsedTime: 65.6 seconds RetCode: 0 Status: OK