Package: RFLOMICS Version: 1.0.1 Command: /Library/Frameworks/R.framework/Resources/bin/R CMD build --keep-empty-dirs --no-resave-data RFLOMICS StartedAt: 2025-10-07 07:59:00 -0400 (Tue, 07 Oct 2025) EndedAt: 2025-10-07 08:02:01 -0400 (Tue, 07 Oct 2025) EllapsedTime: 180.7 seconds RetCode: 0 Status: OK PackageFile: RFLOMICS_1.0.1.tar.gz PackageFileSize: 5.013 MiB