Package: RFLOMICS Version: 1.0.1 Command: rm -rf RFLOMICS.buildbin-libdir && mkdir RFLOMICS.buildbin-libdir && /Users/biocbuild/BBS/utils/build-universal.sh RFLOMICS_1.0.1.tar.gz /Library/Frameworks/R.framework/Resources/bin/R RFLOMICS.buildbin-libdir StartedAt: 2025-10-08 22:34:56 -0400 (Wed, 08 Oct 2025) EndedAt: 2025-10-08 22:36:10 -0400 (Wed, 08 Oct 2025) EllapsedTime: 74.2 seconds RetCode: 0 Status: OK PackageFile: RFLOMICS_1.0.1.tgz PackageFileSize: 4.856 MiB