Package: RFLOMICS Version: 1.0.1 Maintainer: Nadia Bessoltane MaintainerEmail: nadia.bessoltane at inrae.fr git_url: https://git.bioconductor.org/packages/RFLOMICS git_branch: RELEASE_3_21 git_last_commit: 8167278 git_last_commit_date: 2025-10-06 11:24:33 -0400 (Mon, 06 Oct 2025)