Package: RESOLVE Version: 1.12.0 Command: /home/biocbuild/R/R/bin/R CMD INSTALL RESOLVE StartedAt: 2025-11-24 21:51:23 -0000 (Mon, 24 Nov 2025) EndedAt: 2025-11-24 21:52:15 -0000 (Mon, 24 Nov 2025) EllapsedTime: 52.4 seconds RetCode: 0 Status: OK