Package: RESOLVE Version: 1.12.0 Command: /home/biocbuild/bbs-3.22-bioc/R/bin/R CMD INSTALL RESOLVE StartedAt: 2025-11-11 15:49:32 -0500 (Tue, 11 Nov 2025) EndedAt: 2025-11-11 15:50:10 -0500 (Tue, 11 Nov 2025) EllapsedTime: 37.9 seconds RetCode: 0 Status: OK