Package: RESOLVE Version: 1.12.0 Command: /home/biocbuild/bbs-3.22-bioc/R/bin/R CMD build --keep-empty-dirs --no-resave-data --md5 RESOLVE StartedAt: 2025-11-11 19:43:07 -0500 (Tue, 11 Nov 2025) EndedAt: 2025-11-11 19:44:07 -0500 (Tue, 11 Nov 2025) EllapsedTime: 60.1 seconds RetCode: 0 Status: OK PackageFile: RESOLVE_1.12.0.tar.gz PackageFileSize: 858.5 KiB