Package: RESOLVE Version: 1.10.0 Command: /home/biocbuild/bbs-3.21-bioc/R/bin/R CMD build --keep-empty-dirs --no-resave-data RESOLVE StartedAt: 2025-10-15 19:26:52 -0400 (Wed, 15 Oct 2025) EndedAt: 2025-10-15 19:27:50 -0400 (Wed, 15 Oct 2025) EllapsedTime: 58.1 seconds RetCode: 0 Status: OK PackageFile: RESOLVE_1.10.0.tar.gz PackageFileSize: 856.4 KiB