Package: RESOLVE Version: 1.10.0 Command: /home/biocbuild/R/R/bin/R CMD INSTALL RESOLVE StartedAt: 2025-09-25 20:59:46 -0000 (Thu, 25 Sep 2025) EndedAt: 2025-09-25 21:00:39 -0000 (Thu, 25 Sep 2025) EllapsedTime: 53.2 seconds RetCode: 0 Status: OK