Package: RESOLVE Version: 1.10.0 Command: /home/biocbuild/R/R/bin/R CMD build --keep-empty-dirs --no-resave-data RESOLVE StartedAt: 2025-09-26 05:16:18 -0000 (Fri, 26 Sep 2025) EndedAt: 2025-09-26 05:17:40 -0000 (Fri, 26 Sep 2025) EllapsedTime: 82.0 seconds RetCode: 0 Status: OK PackageFile: RESOLVE_1.10.0.tar.gz PackageFileSize: 916.4 KiB