Package: RESOLVE Version: 1.10.0 Command: /Library/Frameworks/R.framework/Resources/bin/R CMD INSTALL RESOLVE StartedAt: 2025-10-13 17:29:38 -0400 (Mon, 13 Oct 2025) EndedAt: 2025-10-13 17:30:24 -0400 (Mon, 13 Oct 2025) EllapsedTime: 45.3 seconds RetCode: 0 Status: OK