Package: RESOLVE Version: 1.10.0 Command: /Library/Frameworks/R.framework/Resources/bin/R CMD build --keep-empty-dirs --no-resave-data RESOLVE StartedAt: 2025-10-14 07:39:26 -0400 (Tue, 14 Oct 2025) EndedAt: 2025-10-14 07:40:40 -0400 (Tue, 14 Oct 2025) EllapsedTime: 73.8 seconds RetCode: 0 Status: OK PackageFile: RESOLVE_1.10.0.tar.gz PackageFileSize: 853.8 KiB