Package: RESOLVE Version: 1.12.0 Maintainer: Luca De Sano MaintainerEmail: luca.desano at gmail.com git_url: https://git.bioconductor.org/packages/RESOLVE git_branch: RELEASE_3_22 git_last_commit: 0daa88d git_last_commit_date: 2025-10-29 11:19:27 -0400 (Wed, 29 Oct 2025)