Package: REMP Version: 1.34.0 Command: /home/biocbuild/bbs-3.22-bioc/R/bin/R CMD INSTALL REMP StartedAt: 2025-11-11 15:47:23 -0500 (Tue, 11 Nov 2025) EndedAt: 2025-11-11 15:48:21 -0500 (Tue, 11 Nov 2025) EllapsedTime: 58.4 seconds RetCode: 0 Status: OK