Package: REMP Version: 1.32.1 Command: /home/biocbuild/R/R/bin/R CMD INSTALL REMP StartedAt: 2025-10-13 20:56:53 -0000 (Mon, 13 Oct 2025) EndedAt: 2025-10-13 20:58:16 -0000 (Mon, 13 Oct 2025) EllapsedTime: 83.3 seconds RetCode: 0 Status: OK