Package: REMP Version: 1.34.0 Command: /Library/Frameworks/R.framework/Resources/bin/R CMD build --keep-empty-dirs --no-resave-data REMP StartedAt: 2025-10-31 17:33:02 -0400 (Fri, 31 Oct 2025) EndedAt: 2025-10-31 17:34:04 -0400 (Fri, 31 Oct 2025) EllapsedTime: 62.8 seconds RetCode: 0 Status: OK PackageFile: REMP_1.34.0.tar.gz PackageFileSize: 190.7 KiB